BEGIN:VCALENDAR
VERSION:2.0
PRODID:-//JamesBLUESLAND - ECPv6.15.20//NONSGML v1.0//EN
CALSCALE:GREGORIAN
METHOD:PUBLISH
X-ORIGINAL-URL:https://www.kobe-james.com
X-WR-CALDESC:JamesBLUESLAND のイベント
REFRESH-INTERVAL;VALUE=DURATION:PT1H
X-Robots-Tag:noindex
X-PUBLISHED-TTL:PT1H
BEGIN:VTIMEZONE
TZID:Asia/Tokyo
BEGIN:STANDARD
TZOFFSETFROM:+0900
TZOFFSETTO:+0900
TZNAME:JST
DTSTART:20240101T000000
END:STANDARD
END:VTIMEZONE
BEGIN:VEVENT
DTSTART;TZID=Asia/Tokyo:20251123T170000
DTEND;TZID=Asia/Tokyo:20251123T230000
DTSTAMP:20260420T024643
CREATED:20251024T060535Z
LAST-MODIFIED:20251030T061255Z
UID:3605-1763917200-1763938800@www.kobe-james.com
SUMMARY:NIMA DANCE SKETCH
DESCRIPTION:
URL:https://www.kobe-james.com/event/nima-dance-sketch/
CATEGORIES:live
ATTACH;FMTTYPE=image/png:https://www.kobe-james.com/wordpress/wp-content/uploads/2025/10/20251123.png
END:VEVENT
END:VCALENDAR