BEGIN:VCALENDAR
VERSION:2.0
PRODID:-//JamesBLUESLAND - ECPv6.15.20//NONSGML v1.0//EN
CALSCALE:GREGORIAN
METHOD:PUBLISH
X-WR-CALNAME:JamesBLUESLAND
X-ORIGINAL-URL:https://www.kobe-james.com
X-WR-CALDESC:JamesBLUESLAND のイベント
REFRESH-INTERVAL;VALUE=DURATION:PT1H
X-Robots-Tag:noindex
X-PUBLISHED-TTL:PT1H
BEGIN:VTIMEZONE
TZID:Asia/Tokyo
BEGIN:STANDARD
TZOFFSETFROM:+0900
TZOFFSETTO:+0900
TZNAME:JST
DTSTART:20180101T000000
END:STANDARD
END:VTIMEZONE
BEGIN:VEVENT
DTSTART;TZID=Asia/Tokyo:20230507T160000
DTEND;TZID=Asia/Tokyo:20230507T230000
DTSTAMP:20260419T235119
CREATED:20251113T025455Z
LAST-MODIFIED:20251125T025314Z
UID:4289-1683475200-1683500400@www.kobe-james.com
SUMMARY:まっちゃんLive Vol.316
DESCRIPTION:
URL:https://www.kobe-james.com/event/%e3%81%be%e3%81%a3%e3%81%a1%e3%82%83%e3%82%93live-vol-316/
CATEGORIES:live
ATTACH;FMTTYPE=image/png:https://www.kobe-james.com/wordpress/wp-content/uploads/2025/11/jamesichach-78.png
END:VEVENT
BEGIN:VEVENT
DTSTART;TZID=Asia/Tokyo:20191127T180000
DTEND;TZID=Asia/Tokyo:20191127T230000
DTSTAMP:20260419T235119
CREATED:20251201T013907Z
LAST-MODIFIED:20251201T013930Z
UID:4889-1574877600-1574895600@www.kobe-james.com
SUMMARY:PPP~”Performance★Power＆Peace"~
DESCRIPTION:
URL:https://www.kobe-james.com/event/pppperformance%e2%98%85power%ef%bc%86peace/
CATEGORIES:live
ATTACH;FMTTYPE=image/png:https://www.kobe-james.com/wordpress/wp-content/uploads/2025/12/jamesichach-復元-3.png
END:VEVENT
END:VCALENDAR