BEGIN:VCALENDAR
VERSION:2.0
PRODID:-//JamesBLUESLAND - ECPv6.15.20//NONSGML v1.0//EN
CALSCALE:GREGORIAN
METHOD:PUBLISH
X-ORIGINAL-URL:https://www.kobe-james.com
X-WR-CALDESC:JamesBLUESLAND のイベント
REFRESH-INTERVAL;VALUE=DURATION:PT1H
X-Robots-Tag:noindex
X-PUBLISHED-TTL:PT1H
BEGIN:VTIMEZONE
TZID:Asia/Tokyo
BEGIN:STANDARD
TZOFFSETFROM:+0900
TZOFFSETTO:+0900
TZNAME:JST
DTSTART:20210101T000000
END:STANDARD
END:VTIMEZONE
BEGIN:VEVENT
DTSTART;TZID=Asia/Tokyo:20220430T180000
DTEND;TZID=Asia/Tokyo:20220430T230000
DTSTAMP:20260420T130324
CREATED:20251113T043028Z
LAST-MODIFIED:20251113T043028Z
UID:4370-1651341600-1651359600@www.kobe-james.com
SUMMARY:塩次伸二メモリアル since2009
DESCRIPTION:日時:\n2022年4月30日 @ 6:00 PM – 10:00 PM\n\n\n参加費:\n3500\n\n\n\nLIVE情報\n\n\n\n8823 The Blues Band 堀尾哲二 山田晴三 永井ホトケ隆 田中晴之 酒井ちふみ
URL:https://www.kobe-james.com/event/%e5%a1%a9%e6%ac%a1%e4%bc%b8%e4%ba%8c%e3%83%a1%e3%83%a2%e3%83%aa%e3%82%a2%e3%83%ab-since2009/
CATEGORIES:live
END:VEVENT
END:VCALENDAR