BEGIN:VCALENDAR
VERSION:2.0
PRODID:-//JamesBLUESLAND - ECPv6.15.20//NONSGML v1.0//EN
CALSCALE:GREGORIAN
METHOD:PUBLISH
X-ORIGINAL-URL:https://www.kobe-james.com
X-WR-CALDESC:JamesBLUESLAND のイベント
REFRESH-INTERVAL;VALUE=DURATION:PT1H
X-Robots-Tag:noindex
X-PUBLISHED-TTL:PT1H
BEGIN:VTIMEZONE
TZID:Asia/Tokyo
BEGIN:STANDARD
TZOFFSETFROM:+0900
TZOFFSETTO:+0900
TZNAME:JST
DTSTART:20200101T000000
END:STANDARD
END:VTIMEZONE
BEGIN:VEVENT
DTSTART;TZID=Asia/Tokyo:20210216T160000
DTEND;TZID=Asia/Tokyo:20210216T160000
DTSTAMP:20260420T014905
CREATED:20251127T040735Z
LAST-MODIFIED:20251127T054625Z
UID:4778-1613491200-1613491200@www.kobe-james.com
SUMMARY:ジェームス鈴木プレゼンツ　Happy Birthday Mr.Kogen!
DESCRIPTION:
URL:https://www.kobe-james.com/event/%e3%82%b8%e3%82%a7%e3%83%bc%e3%83%a0%e3%82%b9%e9%88%b4%e6%9c%a8%e3%83%97%e3%83%ac%e3%82%bc%e3%83%b3%e3%83%84%e3%80%80happy-birthday-mr-kogen/
CATEGORIES:live
ATTACH;FMTTYPE=image/png:https://www.kobe-james.com/wordpress/wp-content/uploads/2025/11/jamesichach-108.png
END:VEVENT
END:VCALENDAR