BEGIN:VCALENDAR
VERSION:2.0
PRODID:-//JamesBLUESLAND - ECPv6.15.20//NONSGML v1.0//EN
CALSCALE:GREGORIAN
METHOD:PUBLISH
X-ORIGINAL-URL:https://www.kobe-james.com
X-WR-CALDESC:JamesBLUESLAND のイベント
REFRESH-INTERVAL;VALUE=DURATION:PT1H
X-Robots-Tag:noindex
X-PUBLISHED-TTL:PT1H
BEGIN:VTIMEZONE
TZID:Asia/Tokyo
BEGIN:STANDARD
TZOFFSETFROM:+0900
TZOFFSETTO:+0900
TZNAME:JST
DTSTART:20180101T000000
END:STANDARD
END:VTIMEZONE
BEGIN:VEVENT
DTSTART;TZID=Asia/Tokyo:20190707T193000
DTEND;TZID=Asia/Tokyo:20190707T230000
DTSTAMP:20260422T232145
CREATED:20251127T062536Z
LAST-MODIFIED:20251127T062557Z
UID:4859-1562527800-1562540400@www.kobe-james.com
SUMMARY:Jmaes Fujiki&RESPECT ALL
DESCRIPTION:
URL:https://www.kobe-james.com/event/jmaes-fujikirespect-all/
CATEGORIES:live
ATTACH;FMTTYPE=image/png:https://www.kobe-james.com/wordpress/wp-content/uploads/2025/11/jamesichach-125.png
END:VEVENT
END:VCALENDAR