BEGIN:VCALENDAR
VERSION:2.0
PRODID:-//JamesBLUESLAND - ECPv6.15.20//NONSGML v1.0//EN
CALSCALE:GREGORIAN
METHOD:PUBLISH
X-ORIGINAL-URL:https://www.kobe-james.com
X-WR-CALDESC:JamesBLUESLAND のイベント
REFRESH-INTERVAL;VALUE=DURATION:PT1H
X-Robots-Tag:noindex
X-PUBLISHED-TTL:PT1H
BEGIN:VTIMEZONE
TZID:Asia/Tokyo
BEGIN:STANDARD
TZOFFSETFROM:+0900
TZOFFSETTO:+0900
TZNAME:JST
DTSTART:20220101T000000
END:STANDARD
END:VTIMEZONE
BEGIN:VEVENT
DTSTART;TZID=Asia/Tokyo:20230416T170000
DTEND;TZID=Asia/Tokyo:20230416T230000
DTSTAMP:20260420T083827
CREATED:20251113T030136Z
LAST-MODIFIED:20251113T030136Z
UID:4296-1681664400-1681686000@www.kobe-james.com
SUMMARY:WICKED SESSION IN JAMES.B.L
DESCRIPTION:日時:\n2023年4月16日 @ 5:00 PM\n\n\n参加費:\n1500\n\n\n\nLIVE情報\n\n\n\nKUBOTIN narichan
URL:https://www.kobe-james.com/event/wicked-session-in-james-b-l/
LOCATION:James BLUESLAND\, 波止場町無番地 篠崎倉庫3F\, 神戸市中央区\, 兵庫県\, 6500042\, 日本
CATEGORIES:live
END:VEVENT
END:VCALENDAR