BEGIN:VCALENDAR
VERSION:2.0
PRODID:-//JamesBLUESLAND - ECPv6.15.20//NONSGML v1.0//EN
CALSCALE:GREGORIAN
METHOD:PUBLISH
X-WR-CALNAME:JamesBLUESLAND
X-ORIGINAL-URL:https://www.kobe-james.com
X-WR-CALDESC:JamesBLUESLAND のイベント
REFRESH-INTERVAL;VALUE=DURATION:PT1H
X-Robots-Tag:noindex
X-PUBLISHED-TTL:PT1H
BEGIN:VTIMEZONE
TZID:Asia/Tokyo
BEGIN:STANDARD
TZOFFSETFROM:+0900
TZOFFSETTO:+0900
TZNAME:JST
DTSTART:20210101T000000
END:STANDARD
END:VTIMEZONE
BEGIN:VEVENT
DTSTART;TZID=Asia/Tokyo:20220417T160000
DTEND;TZID=Asia/Tokyo:20220417T230000
DTSTAMP:20260420T183448
CREATED:20251113T045541Z
LAST-MODIFIED:20251125T040640Z
UID:4381-1650211200-1650236400@www.kobe-james.com
SUMMARY:ナコミ祭り
DESCRIPTION:
URL:https://www.kobe-james.com/event/%e3%83%8a%e3%82%b3%e3%83%9f%e7%a5%ad%e3%82%8a/
CATEGORIES:live
ATTACH;FMTTYPE=image/png:https://www.kobe-james.com/wordpress/wp-content/uploads/2025/11/jamesichach-81.png
END:VEVENT
END:VCALENDAR