BEGIN:VCALENDAR
VERSION:2.0
PRODID:-//JamesBLUESLAND - ECPv6.15.20//NONSGML v1.0//EN
CALSCALE:GREGORIAN
METHOD:PUBLISH
X-WR-CALNAME:JamesBLUESLAND
X-ORIGINAL-URL:https://www.kobe-james.com
X-WR-CALDESC:JamesBLUESLAND のイベント
REFRESH-INTERVAL;VALUE=DURATION:PT1H
X-Robots-Tag:noindex
X-PUBLISHED-TTL:PT1H
BEGIN:VTIMEZONE
TZID:Asia/Tokyo
BEGIN:STANDARD
TZOFFSETFROM:+0900
TZOFFSETTO:+0900
TZNAME:JST
DTSTART:20180101T000000
END:STANDARD
END:VTIMEZONE
BEGIN:VEVENT
DTSTART;TZID=Asia/Tokyo:20220129T143000
DTEND;TZID=Asia/Tokyo:20220129T220000
DTSTAMP:20260420T150714
CREATED:20251113T051839Z
LAST-MODIFIED:20251127T011047Z
UID:4410-1643466600-1643493600@www.kobe-james.com
SUMMARY:KOBE BLUEGRASS JAM 2022
DESCRIPTION:日時:\n2022年1月29日 @ 2:30 PM – 10:00 PM\n\n\n参加費:\n2000\n\n\n\nLIVE情報\n\n\n\nKobe Bluegrass Jam
URL:https://www.kobe-james.com/event/kobe-bluegrass-jam-2022/
CATEGORIES:live
ATTACH;FMTTYPE=image/png:https://www.kobe-james.com/wordpress/wp-content/uploads/2025/11/jamesichach-86.png
END:VEVENT
BEGIN:VEVENT
DTSTART;TZID=Asia/Tokyo:20211114T150000
DTEND;TZID=Asia/Tokyo:20211114T170000
DTSTAMP:20260420T150714
CREATED:20251127T024704Z
LAST-MODIFIED:20251127T060913Z
UID:4731-1636902000-1636909200@www.kobe-james.com
SUMMARY:KOBE BLUEGRASS JAM #16
DESCRIPTION:日時:\n2021年11月14日 @ 3:00 PM – 10:00 PM\n\n\n参加費:\n2000\n\n\n\nLIVE情報\n\n\n\nKobe Bluegrass Jam
URL:https://www.kobe-james.com/event/kobe-bluegrass-jam-16/
CATEGORIES:live
ATTACH;FMTTYPE=image/png:https://www.kobe-james.com/wordpress/wp-content/uploads/2025/11/jamesichach-101.png
END:VEVENT
BEGIN:VEVENT
DTSTART;TZID=Asia/Tokyo:20211030T150000
DTEND;TZID=Asia/Tokyo:20251030T230000
DTSTAMP:20260420T150714
CREATED:20251127T033026Z
LAST-MODIFIED:20251127T061013Z
UID:4753-1635606000-1761865200@www.kobe-james.com
SUMMARY:KOBE BLUEGRASS JAM
DESCRIPTION:
URL:https://www.kobe-james.com/event/kobe-bluegrass-jam/
CATEGORIES:live
ATTACH;FMTTYPE=image/png:https://www.kobe-james.com/wordpress/wp-content/uploads/2025/11/jamesichach-104.png
END:VEVENT
BEGIN:VEVENT
DTSTART;TZID=Asia/Tokyo:20210730T180000
DTEND;TZID=Asia/Tokyo:20210730T230000
DTSTAMP:20260420T150714
CREATED:20251127T055652Z
LAST-MODIFIED:20251127T055652Z
UID:4837-1627668000-1627686000@www.kobe-james.com
SUMMARY:KOBE BLUEGRASS JAM vol14
DESCRIPTION:
URL:https://www.kobe-james.com/event/kobe-bluegrass-jam-vol14/
CATEGORIES:live
ATTACH;FMTTYPE=image/png:https://www.kobe-james.com/wordpress/wp-content/uploads/2025/11/jamesichach-121.png
END:VEVENT
BEGIN:VEVENT
DTSTART;TZID=Asia/Tokyo:20190622T170000
DTEND;TZID=Asia/Tokyo:20190622T230000
DTSTAMP:20260420T150714
CREATED:20251201T020736Z
LAST-MODIFIED:20251201T020736Z
UID:4904-1561222800-1561244400@www.kobe-james.com
SUMMARY:MOTOMACHI Night Bluegrass Jam
DESCRIPTION:moto
URL:https://www.kobe-james.com/event/motomachi-night-bluegrass-jam/
CATEGORIES:live
ATTACH;FMTTYPE=image/png:https://www.kobe-james.com/wordpress/wp-content/uploads/2025/12/jamesichach-復元-6.png
END:VEVENT
END:VCALENDAR