BEGIN:VCALENDAR
VERSION:2.0
PRODID:-//JamesBLUESLAND - ECPv6.15.20//NONSGML v1.0//EN
CALSCALE:GREGORIAN
METHOD:PUBLISH
X-ORIGINAL-URL:https://www.kobe-james.com
X-WR-CALDESC:JamesBLUESLAND のイベント
REFRESH-INTERVAL;VALUE=DURATION:PT1H
X-Robots-Tag:noindex
X-PUBLISHED-TTL:PT1H
BEGIN:VTIMEZONE
TZID:Asia/Tokyo
BEGIN:STANDARD
TZOFFSETFROM:+0900
TZOFFSETTO:+0900
TZNAME:JST
DTSTART:20210101T000000
END:STANDARD
END:VTIMEZONE
BEGIN:VEVENT
DTSTART;TZID=Asia/Tokyo:20220205T150000
DTEND;TZID=Asia/Tokyo:20220205T220000
DTSTAMP:20260422T232207
CREATED:20251113T051716Z
LAST-MODIFIED:20251125T041644Z
UID:4407-1644073200-1644098400@www.kobe-james.com
SUMMARY:KOBE MUSIC CITY RELAY LIVE 2022
DESCRIPTION:日時:\n2022年2月5日 @ 3:00 PM – 10:00 PM\n\n\n参加費:\n3000\n\n\n\nLIVE情報\n\n\n\nCharlie Kosei Dokachin Funky Nasso kiLLA SHO AMANO ロビーさんぺい
URL:https://www.kobe-james.com/event/kobe-music-city-relay-live-2022/
CATEGORIES:live
ATTACH;FMTTYPE=image/png:https://www.kobe-james.com/wordpress/wp-content/uploads/2025/11/jamesichach-85.png
END:VEVENT
END:VCALENDAR