BEGIN:VCALENDAR
VERSION:2.0
PRODID:-//JamesBLUESLAND - ECPv6.15.20//NONSGML v1.0//EN
CALSCALE:GREGORIAN
METHOD:PUBLISH
X-WR-CALNAME:JamesBLUESLAND
X-ORIGINAL-URL:https://www.kobe-james.com
X-WR-CALDESC:JamesBLUESLAND のイベント
REFRESH-INTERVAL;VALUE=DURATION:PT1H
X-Robots-Tag:noindex
X-PUBLISHED-TTL:PT1H
BEGIN:VTIMEZONE
TZID:Asia/Tokyo
BEGIN:STANDARD
TZOFFSETFROM:+0900
TZOFFSETTO:+0900
TZNAME:JST
DTSTART:20220101T000000
END:STANDARD
END:VTIMEZONE
BEGIN:VEVENT
DTSTART;TZID=Asia/Tokyo:20230506T190000
DTEND;TZID=Asia/Tokyo:20230506T230000
DTSTAMP:20260420T072423
CREATED:20251113T025729Z
LAST-MODIFIED:20251125T025617Z
UID:4292-1683399600-1683414000@www.kobe-james.com
SUMMARY:“So Fine Vol.2” presenting Soul\, R&B classics
DESCRIPTION:日時:\n2023年5月6日 @ 7:00 PM\n\n\n参加費:\n3500円　With 1drink\n\n\n\nLIVE情報\n\n\n\nGen Kaity KenT RaB Satsuki SUZUKI Jun Yamamoto Kohey
URL:https://www.kobe-james.com/event/so-fine-vol-2-presenting-soul-rb-classics/
CATEGORIES:live
ATTACH;FMTTYPE=image/png:https://www.kobe-james.com/wordpress/wp-content/uploads/2025/11/jamesichach-79.png
END:VEVENT
END:VCALENDAR